BEGIN:VCALENDAR
VERSION:2.0
PRODID:-//hacksw/handcal//NONSGML v1.0//EN
BEGIN:VEVENT
DTSTAMP:20240926T180000Z
DTSTART:20240926T180000Z
DTEND:20240926T200000Z
SUMMARY:Asake
DESCRIPTION:Afrobeat singer Asake will be coming to the Uber Eats Music Hall in Berlin on September 26, 2024 as part of his &#39;&#39;Lungu Boy World"-Tour.Tickets are available now. Nigerian Afrobeat star Asake, aka. &#39;&#39;MR MONEY&#39;&#39;, has won over fans all around the world with his unique mix of Afrobeats, hip-hop and Amapiano. Hits such as &#39;&#39;Mr. Money&#39;&#39; and &#39;&#39;Sungba&#39;&#39; have earned him great recognition and an enthusiastic fan base.
END:VEVENT
END:VCALENDAR