BEGIN:VCALENDAR
VERSION:2.0
PRODID:-//hacksw/handcal//NONSGML v1.0//EN
BEGIN:VEVENT
DTSTAMP:20250502T180000Z
DTSTART:20250502T180000Z
DTEND:20250502T200000Z
SUMMARY:Cancelled Podcast
DESCRIPTION:The Cancelled Podcast will visit the Uber Eats Music Hall in Berlin on May 2, 2025 as part of the International Disaster Tour.Tickets are available now.Tana Mongeau and Brooke Schofield are bringing the successful US comedy podcast format “Cancelled” live to the Uber Eats Music Hall in Berlin for the first time. Look forward to experiencing the social media icons live - without cuts or filters.
END:VEVENT
END:VCALENDAR