BEGIN:VCALENDAR
VERSION:2.0
PRODID:-//hacksw/handcal//NONSGML v1.0//EN
BEGIN:VEVENT
DTSTAMP:20230317T190000Z
DTSTART:20230317T190000Z
DTEND:20230317T210000Z
SUMMARY:Cancelled: David Hasselhoff
DESCRIPTION:ATTENTION:The concert of David Hasselhoff, which was scheduled for the 17th of March 2023 cannot take place as planned and is cancelled.Artist statement:"Dear fans, I was so looking forward to partying our Hasselhoff with you. This was supposed to be a big singalong with a lot of dancing -something that is more important than ever. We had put together a beautiful show that would have thrilled everybody.Unfortunately, I’ve come down with an eye infection that is making it impossible for me to put on the kind of show that you all deserve. With a heavy heart I have to cancel the tour. I am really sorry that I have to disappoint you all.Your refund will be processed through the payment method used at the original time of purchase. Please contact the Booking systemwhere you purchased your tickets.Love, David"
END:VEVENT
END:VCALENDAR