BEGIN:VCALENDAR
VERSION:2.0
PRODID:-//hacksw/handcal//NONSGML v1.0//EN
BEGIN:VEVENT
DTSTAMP:20241213T190000Z
DTSTART:20241213T190000Z
DTEND:20241213T210000Z
SUMMARY:Fally Ipupa
DESCRIPTION:Congolese superstar Fally Ipupa is going on tour in Europe and will be coming to Berlin for a live concert at the Uber East Music Hall on 13 December 2024 to present his most recent album "Tokooos II Gold".Tickets are available now.Born Fally Ipupa Nsimba, the singer, songwriter and producer began his musical career at a young age as a member of the band Quartier Latin International. In 2006, he released his first solo album "Droit Chemin", which catapulted him straight into the international charts. This was followed by albums such as "Arsenal de Belles Mélodies", "Tokooos" and "Control".Ipupa&#39;s music is characterised by profound lyrics and a mix of traditional Congolese sounds and modern influences. With sold-out concerts all over the world, including at The O2 in London, Fally Ipupa has cemented his position as a global ambassador for African music. His concerts are known for their energy, passion and ability to take the audience on an unforgettable musical journey.
END:VEVENT
END:VCALENDAR