BEGIN:VCALENDAR
VERSION:2.0
PRODID:-//hacksw/handcal//NONSGML v1.0//EN
BEGIN:VEVENT
DTSTAMP:20250926T180000Z
DTSTART:20250926T180000Z
DTEND:20250926T200000Z
SUMMARY:Graham Nash – More Evenings of Songs and Stories
DESCRIPTION:On September 26, 2025, the legendary Graham Nash will visit us live at the Uber Eats Music Hall as part of his "More Evenings of Songs & Stories 2025" tour.Tickets are available now.The musician, singer and songwriter is not only known as a solo artist, but also for his work in the bands Crosby, Stills & Nash (& Young) and The Hollies. Some of the most important songs by both groups can be traced back to Nash, including ‘Teach Your Children’. A visit to Berlin by this influential musician is not to be missed.
END:VEVENT
END:VCALENDAR