BEGIN:VCALENDAR
VERSION:2.0
PRODID:-//hacksw/handcal//NONSGML v1.0//EN
BEGIN:VEVENT
DTSTAMP:20260401T180000Z
DTSTART:20260401T180000Z
DTEND:20260401T200000Z
SUMMARY:LYKN
DESCRIPTION:Thai boyband LYKN will be visiting us on April 1, 2026, at the Uber Eats Music Hall in Berlin with their "Dusk & Dawn World Tour".Tickets are available now.The boy band LYKN was formed through the show “Project Alpha” and consists of members William, Lego, Hong, Nut, and Tui. With their debut album “DUSK & DAWN,” released in October 2025, they won over fans worldwide. We are therefore all the more delighted to welcome LYKN to Berlin on April 1 for an exclusive concert in Germany.
END:VEVENT
END:VCALENDAR