BEGIN:VCALENDAR
VERSION:2.0
PRODID:-//hacksw/handcal//NONSGML v1.0//EN
BEGIN:VEVENT
DTSTAMP:20231208T190000Z
DTSTART:20231208T190000Z
DTEND:20231208T210000Z
SUMMARY:Sleep Token
DESCRIPTION:On 8th of December Sleep Token will come to the Uber Eats Music Hall with their "German Headline Rituals" - Tour.Tickets are available now.The british band Sleep Token were formed in 2016 and have been incorporating different genres into their music ever since. Some of these genres include alternative metal, progressive metal, post-metal and indie-rock. The members go on stage to perform with masks on. Fans can be excited to see their favorite songs since 2016 and even Sleep Token&#39;s newest album "Take Me Back To Eden" live.
END:VEVENT
END:VCALENDAR