BEGIN:VCALENDAR
VERSION:2.0
PRODID:-//hacksw/handcal//NONSGML v1.0//EN
BEGIN:VEVENT
DTSTAMP:20241228T190000Z
DTSTART:20241228T190000Z
DTEND:20241228T210000Z
SUMMARY:Stereoact
DESCRIPTION:Stereoact are coming back to the Uber Eats Music Hall in Berlin on December 28, 2024.Tickets are available now.German DJ duo Stereoact know how to produce a hit song. Their collaborations with national and international superstars such as Helene Fischer and DJ Antoine found great success globally.
END:VEVENT
END:VCALENDAR