BEGIN:VCALENDAR
VERSION:2.0
PRODID:-//hacksw/handcal//NONSGML v1.0//EN
BEGIN:VEVENT
DTSTAMP:20250628T170000Z
DTSTART:20250628T170000Z
DTEND:20250628T190000Z
SUMMARY:Cancelled: This is Navalny
DESCRIPTION:Please note:The event This Is Navalny scheduled for June 28, 2025, at the Uber Eats Music Hall cannot take place and has been canceled. Statement of the promoter:"Dear friends, Unfortunately, due to circumstances beyond our control, we have to cancel the memorial concert to Alexei Navalny and the film showing of Navalny in Berlin. We will automatically issue refunds to everyone who purchased a ticket. The amount will be returned to the card or account used for the original payment. We understand that many of you will have also booked hotels and transport to Berlin. If these bookings are non-refundable, we are ready to reimburse you for these expenses as well. Please write to us at support@navalny.com and include proof of your booking. The first Alexei Navalny Prize was also scheduled to be awarded at the concert. The award ceremony will take place at a later date, and we will share more information on this shortly. Thank you to everyone for their help and support of the concert, especially the artists. For any other questions related to the cancellation, please contact us at support@navalny.com."Tickets will be refunded at the point of purchase.
END:VEVENT
END:VCALENDAR