BEGIN:VCALENDAR
VERSION:2.0
PRODID:-//hacksw/handcal//NONSGML v1.0//EN
BEGIN:VEVENT
DTSTAMP:20260319T190000Z
DTSTART:20260319T190000Z
DTEND:20260319T210000Z
SUMMARY:THOMAS ANDERS sings MODERN TALKING
DESCRIPTION:On March 19, 2026 it&#39;s time for: THOMAS ANDERS sings MODERN TALKING live at the Uber Eats Music Hall.Tickets are available now.To mark the 40th anniversary of Modern Talking, Thomas Anders will be touring Germany in 2026, performing the duo&#39;s hits and new interpretations. Fans can expect a spectacular show.
END:VEVENT
END:VCALENDAR