BEGIN:VCALENDAR
VERSION:2.0
PRODID:-//hacksw/handcal//NONSGML v1.0//EN
BEGIN:VEVENT
DTSTAMP:20230913T173000Z
DTSTART:20230913T173000Z
DTEND:20230913T193000Z
SUMMARY:TWICE
DESCRIPTION:Korean girlgroup TWICE will come to the Uber Arena on September 13 and 14, 2023.Tickets are available now.The nine girls debuted in 2015 and have been a staple of the Korean music scene ever since. Internationally Tzuyu, Nayeon, Jihyo, Dahyun, Momo, Sana, Jeongyeon, Mina, and Chaeyoung do not need to hide at all - with several albums in the US charts they have proven over and over again that they are a hit across borders and languages. Their latest album Ready to Be climbed all the way up to number one in the Korean album charts and to the number two spot in the US. ONCE can look forward to an incredible concert experience when the group takes to the stage in Berlin for the first time in their long career.Our TWICE FAQ can be found here: FAQ
END:VEVENT
END:VCALENDAR