BEGIN:VCALENDAR
VERSION:2.0
PRODID:-//hacksw/handcal//NONSGML v1.0//EN
BEGIN:VEVENT
DTSTAMP:20251219T193000Z
DTSTART:20251219T193000Z
DTEND:20251219T213000Z
SUMMARY:Cem Yilmaz
DESCRIPTION:Der türkische Comedian Cem Yilmaz besucht am 19. Dezember 2025 die Uber Eats Music Hall in Berlin.Tickets gibt es ab sofort.Cem Yilmaz geht mit seinem Programm CMXXIV auf Tour und stattet dabei auch der deutschen Hauptstadt einen Besuch ab. Freuen Sie sich auf einen Abend, der ihre Lachmuskeln trainieren wird.
END:VEVENT
END:VCALENDAR