BEGIN:VCALENDAR
VERSION:2.0
PRODID:-//hacksw/handcal//NONSGML v1.0//EN
BEGIN:VEVENT
DTSTAMP:20270508T173000Z
DTSTART:20270508T173000Z
DTEND:20270508T203000Z
SUMMARY:Clara Lösel
DESCRIPTION:Die Poetry-Künstlerin & Schriftstellerin Clara Lösel tritt am 8. Mai 2027 in der Uber Eats Music Hall auf.Tickets gibt es ab Freitag, dem 24. April 2026 um 10:00 Uhr. Jetzt für den Event-Alarm anmelden und informiert werden, sobald Tickets verfügbar sind.Clara Lösel hat sich auf Social Media mit ihren tiefgründigen Poetry-Videos eine breite Community aufgebaut. Mit ihrer Arbeit gilt sie als Deutschlands erfolgreichste Peotry-Künstlerin. Die Showabende ihrer brandneuen „Ich dachte, sowas fühl nur ich“-Tour werden wie gewohnt voller Hoffnung, Wortwitz und tiefgehender Gedanken sein.
END:VEVENT
END:VCALENDAR