BEGIN:VCALENDAR
VERSION:2.0
PRODID:-//hacksw/handcal//NONSGML v1.0//EN
BEGIN:VEVENT
DTSTAMP:20260208T190000Z
DTSTART:20260208T190000Z
DTEND:20260208T210000Z
SUMMARY:Danny Ocean
DESCRIPTION:Am 8. Februar 2026 besucht uns der venezolanische Singer-Songwriter Danny Ocean im Rahmen seiner EuroTour 2026 live in der Uber Eats Music Hall in Berlin.Tickets gibt es ab sofort.Danny Ocean begeistert mit seinem einzigartigen Sound, einer energiegeladenen Show und innovativer Bühnengestaltung, durch die er eine authentische Nähe zu seinem Publikum von Lateinamerika bis Europa schafft. Umso mehr freuen wir uns auf seinen exklusiven Deutschland-Stopp in Berlin.
END:VEVENT
END:VCALENDAR