BEGIN:VCALENDAR
VERSION:2.0
PRODID:-//hacksw/handcal//NONSGML v1.0//EN
BEGIN:VEVENT
DTSTAMP:20230317T190000Z
DTSTART:20230317T190000Z
DTEND:20230317T210000Z
SUMMARY:Abgesagt: David Hasselhoff
DESCRIPTION:ACHTUNG:Das für den 17. März 2023 geplante Konzert von David Hasselhoff kann auf Grund von Krankheit des Künstlers nicht stattfinden und wird ersatzlos abgesagt.Statement des Künstlers:"Liebe Fans, ich habe mich so darauf gefreut mit euch Party your Hasselhoff zu feiern. Es sollte getanzt, mitgesungen und gefeiert werden - etwas, das wichtiger denn je geworden ist. Wir hatten eine schöne Show auf die Beine gestellt, die alle begeistert hätte. Leider bin ich an einer ernstzunehmenden Augeninfektion erkrankt, die es mir unmöglich macht, eine solche Show auf die Beine zu stellen, die ihr alle verdient habt. Schweren Herzens muss ich die Tournee absagen.Es tut mir wirklich leid, dass ich euch alle enttäuschen muss. Eure Rückerstattung wird über die Zahlungsmethode abgewickelt, die ihr zum Zeitpunkt des Kaufs verwendet habt. Wendet euch dazu an die Vorverkaufsstelle, an der ihr eure Tickets erworben habt.Love, David"
END:VEVENT
END:VCALENDAR