BEGIN:VCALENDAR
VERSION:2.0
PRODID:-//hacksw/handcal//NONSGML v1.0//EN
BEGIN:VEVENT
DTSTAMP:20260705T110000Z
DTSTART:20260705T110000Z
DTEND:20260705T130000Z
SUMMARY:Flying Steps Academy
DESCRIPTION:Im Rahmen der „Classes on Stage“-Sommershow kommt die Flying Steps Academy am 5. Juli 2026 für zwei Shows in die Uber Eats Music Hall.Tickets sind ab sofort verfügbar.Die Flying Steps Academy ist Deutschlands größte urbane Tanzschule für Kinder und Erwachsene. Von Hip Hop, Breakdance bis hin zu Ballett sind dabei die verschiedensten Tanzarten vertreten. Diesen Sommer verwandelt die Flying Steps Academy die Uber Eats Music Hall mit ihren Fähigkeiten in ein facettenreiches Tanzparkett.
END:VEVENT
END:VCALENDAR