BEGIN:VCALENDAR
VERSION:2.0
PRODID:-//hacksw/handcal//NONSGML v1.0//EN
BEGIN:VEVENT
DTSTAMP:20260915T170000Z
DTSTART:20260915T170000Z
DTEND:20260915T190000Z
SUMMARY:JONY
DESCRIPTION:Die Uber Eats Music Hall in Berlin freut sich am 15. September 2026 auf den Popsänger und Songwriter JONY.Tickets sind ab sofort verfügbar.Musiker JONY kommt ursprünglich aus Aserbaidschan und hört bürgerlich auf den Namen Jahid Huseynli. 2019 eroberte er mit emotionalen, R&B-affinen Liebessongs die russischen Pop- Charts. Seine englischsprachigen Hits wie "Love Your Voice" bescherten ihm zudem viele internationale Fans.
END:VEVENT
END:VCALENDAR