BEGIN:VCALENDAR
VERSION:2.0
PRODID:-//hacksw/handcal//NONSGML v1.0//EN
BEGIN:VEVENT
DTSTAMP:20261213T180000Z
DTSTART:20261213T180000Z
DTEND:20261213T200000Z
SUMMARY:Markus Krebs
DESCRIPTION:Am 10. und 13. Dezember 2026 dürfen wir den Stand-Up-Comedian Markus Krebs im Rahmen seinem Programm "Das Beste aus 15 Jahren" live in der Uber Eats Music Hall in Berlin begrüßen.Tickets gibt es ab sofort.Markus Krebs ist mit seinem einzigartigen Humor nicht mehr aus der deutschen Comedy-Szene wegzudenken. Seit 15 Jahren begeistert er unzählige Fans mit seiner Art: ehrlich, authentisch und zum Brüllen. Bei seinem Jubiläumsprogramm erwartet Sie das Beste aus 6 Live-Programmen.
END:VEVENT
END:VCALENDAR