BEGIN:VCALENDAR
VERSION:2.0
PRODID:-//hacksw/handcal//NONSGML v1.0//EN
BEGIN:VEVENT
DTSTAMP:20250303T190000Z
DTSTART:20250303T190000Z
DTEND:20250303T210000Z
SUMMARY:Valeriy Meladze
DESCRIPTION:Am 3. März 2025 dürfen wir den Popsänger Valeriy Meladze im Rahmen seiner "Jubiläumstour 2025" live in der Uber Eats Music Hall in Berlin begrüßen.Tickets sind ab sofort erhältlich.Valeriy Meladze startete seine Karriere als Sänger der Rockband Dialog. Drei Jahre nach seinem ersten Soloauftritt erschien dann sein Debütalbum "Sera." Feiern Sie gemeinsam mit dem talentierten Künstler und Tausenden von anderen Fans sein 30-jähriges Bühnenjubiläum.
END:VEVENT
END:VCALENDAR