BEGIN:VCALENDAR
VERSION:2.0
PRODID:-//hacksw/handcal//NONSGML v1.0//EN
BEGIN:VEVENT
DTSTAMP:20260613T183000Z
DTSTART:20260613T183000Z
DTEND:20260613T203000Z
SUMMARY:Zdravko Čolić
DESCRIPTION:Der bosnische Popstar Zdravko Čolić kehrt am 13. Juni 2026 zurück in die Uber Eats Music Hall Berlin.Tickets sind ab sofort erhältlich.Zdravko Čolić landete 1972 mit seinem Song „Sinoć nisi bila tu“ seinen musikalischen Durchbruch. Mit Hits wie "Ona spava"und "April u Beogradu" schoß er sich ins Herz der bosnischen und serbischen Musiklandschaft. Mit seiner Teilnahme beim Eurovision Song Contest folgte eine internationale Reichweite. Diesen Sommer kommt er nach Berlin und bringt neben seinen nostalgischen Hits auch frische Musik von seinem aktuellen Album "April" mit.
END:VEVENT
END:VCALENDAR